BEGIN:VCALENDAR
VERSION:2.0
PRODID:-//The Metropolitan Chapter of the Victorian Society in America - ECPv6.15.20//NONSGML v1.0//EN
CALSCALE:GREGORIAN
METHOD:PUBLISH
X-WR-CALNAME:The Metropolitan Chapter of the Victorian Society in America
X-ORIGINAL-URL:https://vicsocny.org
X-WR-CALDESC:Events for The Metropolitan Chapter of the Victorian Society in America
REFRESH-INTERVAL;VALUE=DURATION:PT1H
X-Robots-Tag:noindex
X-PUBLISHED-TTL:PT1H
BEGIN:VTIMEZONE
TZID:America/New_York
BEGIN:DAYLIGHT
TZOFFSETFROM:-0500
TZOFFSETTO:-0400
TZNAME:EDT
DTSTART:20160313T070000
END:DAYLIGHT
BEGIN:STANDARD
TZOFFSETFROM:-0400
TZOFFSETTO:-0500
TZNAME:EST
DTSTART:20161106T060000
END:STANDARD
BEGIN:DAYLIGHT
TZOFFSETFROM:-0500
TZOFFSETTO:-0400
TZNAME:EDT
DTSTART:20170312T070000
END:DAYLIGHT
BEGIN:STANDARD
TZOFFSETFROM:-0400
TZOFFSETTO:-0500
TZNAME:EST
DTSTART:20171105T060000
END:STANDARD
BEGIN:DAYLIGHT
TZOFFSETFROM:-0500
TZOFFSETTO:-0400
TZNAME:EDT
DTSTART:20180311T070000
END:DAYLIGHT
BEGIN:STANDARD
TZOFFSETFROM:-0400
TZOFFSETTO:-0500
TZNAME:EST
DTSTART:20181104T060000
END:STANDARD
END:VTIMEZONE
BEGIN:VEVENT
DTSTART;TZID=America/New_York:20170320T183000
DTEND;TZID=America/New_York:20170320T200000
DTSTAMP:20260421T195235
CREATED:20170123T035522Z
LAST-MODIFIED:20170307T153434Z
UID:10000059-1490034600-1490040000@vicsocny.org
SUMMARY:Margot Gayle Fundraiser
DESCRIPTION:The Victorian Society New York invites you to a program to benefit the Margot Gayle Fund for the Preservation of Victorian Heritage. \nMonday\, March 20\, 2017\, 6:30 p.m. \nSt. Peter’s Episcopal Church\n346 West 20th Street New York City \nWe will be presenting: \n– Our Vanishing Legacy\, a documentary with commentary from Director Gordon Hyatt \n– St. Peter’s Church Chelsea\, a look at its restoration by The Rev. Stephen Harding \n– Wyckoff-Sneidicker Family Cemetery Restoration\, research reports by Brooke Fernandez and Samantha Zavala \n– Reception to follow \nThe Margot Gayle Fund for the Preservation of Victorian Heritage was established in 2003 and enables the Metropolitan Chapter to make monetary grants for projects for preservation or conservation of Victorian material culture in the New York Metropolitan area. \nIf you would like to attend\, please make a donation to the “Metropolitan Chapter VSA; Attention Margo Gayle Fund” at one of the following levels: \n\n$50\n$100\n$150\n$200\n$250\n$500\n\nAdmission and donations can be made online here: \n\n\n\n\nAdmission and donations can also be mailed to: \nMetropolitan Chapter VSA\n232 East 11th Street\nNew York\, NY 10003
URL:https://vicsocny.org/calendar/margot-gayle-fundraiser/
LOCATION:St. Peter’s Episcopal Church\, 346 W 20th St\, New York\, 10011\, United States
ATTACH;FMTTYPE=image/jpeg:https://vicsocny.org/wp-content/uploads/2017/01/Our-Vanishing-Legacy.jpg
GEO:40.7440891;-74.0019888
X-APPLE-STRUCTURED-LOCATION;VALUE=URI;X-ADDRESS=St. Peter’s Episcopal Church 346 W 20th St New York 10011 United States;X-APPLE-RADIUS=500;X-TITLE=346 W 20th St:geo:-74.0019888,40.7440891
END:VEVENT
BEGIN:VEVENT
DTSTART;TZID=America/New_York:20170318T094500
DTEND;TZID=America/New_York:20170318T120000
DTSTAMP:20260421T195235
CREATED:20170212T171355Z
LAST-MODIFIED:20200108T002851Z
UID:10000032-1489830300-1489838400@vicsocny.org
SUMMARY:Little Syria: A Tour of Downtown Manhattan's Lost Neighborhood
DESCRIPTION:Little Syria on Manhattan’s Lower West Side was the first major Arab Settlement in the United States. In conjunction with an Arab American Museum exhibition at The Metropolitan College of New York\, Joe Svehlak will guide us through what remains of one of New York’s oldest melting pot immigrant communities\, home to his own Moravian ancestors. To be seen are the former St. George’s Syrian Melkite Church\, Down-town Community House and a few federal townhouses and tenements that remain. The tour will end at the “Little Syria “exhibit. \nJoe Svehlak\, is a native New Yorker\, urban historian and preservationist. As a teenage messenger in the 1950s\, Joe walked the streets of a different Lower Manhattan. Joe is a preservation advocate for all parts of New York City and remains active with many downtown Manhattan groups including “Friends of the Lower West Side.” Joe is a licensed NYC tour guide with his own custom tour business. \nPaid reservations are required for all tours. \nThis walking tour is limited to 30 participants. $20 for members\, $30 for non-members.\nPaid reservations must be received by Wednesday\, March 15.\nMeeting places will be provided with reservation confirmations. \nNo refunds will be made for cancellations. \nChecks payable to Metropolitan Chapter VSA and should be mailed to:\nTours\, Metropolitan Chapter of Victorian Society in America\nc/o Village Alliance\n8 East 8th Street\nNew York\, NY 10003 \nOnline Payment can be made here \n\nLittle Syria Tour \n\n\n\nNon-Member Pricing $30.00 USDMember Pricing $25.00 USD\n\n\n\n\n\n \n\nParticipants in our educational tours must be in excellent health and able to participate safely in the activities involved. If you have any doubt about your ability to participate fully due to health conditions or disabilities\, contact Victorian Society New York at info@vicsocny.org or (212) 886-3742. Victorian Society New York reserves the right to decline to accept or refuse to retain any person as a member of our tours at any time.
URL:https://vicsocny.org/calendar/little-syria-a-tour-of-downtown-manhattans-lost-neighborhood/
ATTACH;FMTTYPE=image/jpeg:https://vicsocny.org/wp-content/uploads/2017/02/860d378d-126e-47d5-8844-6059b54153f8.jpg
END:VEVENT
BEGIN:VEVENT
DTSTART;TZID=America/New_York:20170309T183000
DTEND;TZID=America/New_York:20170309T200000
DTSTAMP:20260421T195235
CREATED:20170204T001759Z
LAST-MODIFIED:20170207T185912Z
UID:10000028-1489084200-1489089600@vicsocny.org
SUMMARY:Remembering Victorian Women
DESCRIPTION:Cover of Ms. Murdoch’s Book \nFrom imaginings of the “Angel in the House” to falsely attributed accounts of the Queen’s advice to “lie back and think of England\,” popular representations of Victorian women tend to fall into overly simplified gender distinctions. Current society perceives Victorian women as corseted and caged in crinolines\, protected from the worlds of politics\, business and war within their domestic sphere. By exploring the lives of three Victorian women—Elizabeth Barrett Browning\, Hannah Cullwick and Mary Seacole—Lydia Murdoch\, professor of history at Vassar College and author of Daily Life of Victorian Women (Greenwood\, 2013)\, will unravel the myths and contradictions of Victorian femininity.\ \nThe Victorian Society New York sponsors a series of free lectures at The English Speaking Union\, 144 E. 39th St.\, between Lexington and Third Avenues in Manhattan. No reservations are required. Attendees are invited to post-lecture receptions.
URL:https://vicsocny.org/calendar/remembering-victorian-women-during-womens-history-month/
LOCATION:The English Speaking Union\, 144 E 39th St\, New York\, NY\, 10016\, United States
ATTACH;FMTTYPE=image/jpeg:https://vicsocny.org/wp-content/uploads/2017/02/Victorian-Women-1.jpg
GEO:40.7490337;-73.9767885
X-APPLE-STRUCTURED-LOCATION;VALUE=URI;X-ADDRESS=The English Speaking Union 144 E 39th St New York NY 10016 United States;X-APPLE-RADIUS=500;X-TITLE=144 E 39th St:geo:-73.9767885,40.7490337
END:VEVENT
BEGIN:VEVENT
DTSTART;TZID=America/New_York:20170223T183000
DTEND;TZID=America/New_York:20170223T200000
DTSTAMP:20260421T195235
CREATED:20170204T000319Z
LAST-MODIFIED:20170222T225218Z
UID:10000057-1487874600-1487880000@vicsocny.org
SUMMARY:Rescheduled for Feb 23rd! - The {Disputed} Glories of the High Victorian Garden
DESCRIPTION:Munstead Wood\, Gertrud Jekyl Garden\, photo by Kathleen Bennett. \nPLEASE NOTE: This event has been rescheduled from its original date.  It will take place on February 23rd. \nNew horticultural imports\, exciting technological innovations\, controversies over color theory\, patterns and lay-out all characterize this period. Owners and their head gardeners looked to former historical styles (especially Italian) while incorporating current Victorian pursuits and fashions. Majda Salvesen\, garden history author and adjunct lecturer in the NYU Department of Art and Architecture History and Urban Studies\, will examine these new variants and their influence on 21st-century garden design. \nThe Victorian Society New York sponsors a series of free lectures at The English Speaking Union\, 144 E. 39th St.\, between Lexington and Third Avenues in Manhattan. No reservations are required. Attendees are invited to post-lecture receptions.
URL:https://vicsocny.org/calendar/the-disputed-glories-of-the-high-victorian-garden/
LOCATION:The English Speaking Union\, 144 E 39th St\, New York\, NY\, 10016\, United States
ATTACH;FMTTYPE=image/jpeg:https://vicsocny.org/wp-content/uploads/2017/02/Victorian-Gardens.jpg
GEO:40.7490337;-73.9767885
X-APPLE-STRUCTURED-LOCATION;VALUE=URI;X-ADDRESS=The English Speaking Union 144 E 39th St New York NY 10016 United States;X-APPLE-RADIUS=500;X-TITLE=144 E 39th St:geo:-73.9767885,40.7490337
END:VEVENT
BEGIN:VEVENT
DTSTART;TZID=America/New_York:20170216T183000
DTEND;TZID=America/New_York:20170216T203000
DTSTAMP:20260421T195235
CREATED:20170204T005530Z
LAST-MODIFIED:20170207T190057Z
UID:10000030-1487269800-1487277000@vicsocny.org
SUMMARY:YOUNG VICTORIANS TOUR: The Neustadt Collection of Tiffany Glass
DESCRIPTION:Please join us for a behind-the-scenes tour of The Neustadt Collection of Tiffany Glass – a premier collection of Louis C. Tiffany’s renowned lamps\, windows\, metalwork and rare archival materials. Lindsay Parrott\, Director and Curator\, and Morgan Albahary\, Curatorial and Collections Assistant\, will lead Young Victorian patrons on a tour of the The Neustadt’s unique holdings\, including a glass archive of more than a quarter million examples of original Tiffany flat glass and glass jewels.  Attendees will learn about the materials and fabrication process behind Tiffany’s iconic lamps\, windows and mosaics. \nAdmission FREE to members; $30 to non-members \nPlease R.S.V.P. by February 10th to membership@vicsocny.org\nLight refreshments will be served
URL:https://vicsocny.org/calendar/young-victorians-tour-the-neustadt-collection-of-tiffany-glass/
LOCATION:The Neustadt Collection\, 5-26 46th Aveune\, Long Island City \, NY\, 11101\, United States
ATTACH;FMTTYPE=image/jpeg:https://vicsocny.org/wp-content/uploads/2017/02/Untitled-7.jpg
GEO:40.7472017;-73.9543748
X-APPLE-STRUCTURED-LOCATION;VALUE=URI;X-ADDRESS=The Neustadt Collection 5-26 46th Aveune Long Island City  NY 11101 United States;X-APPLE-RADIUS=500;X-TITLE=5-26 46th Aveune:geo:-73.9543748,40.7472017
END:VEVENT
BEGIN:VEVENT
DTSTART;TZID=America/New_York:20170216T180000
DTEND;TZID=America/New_York:20170216T200000
DTSTAMP:20260421T195235
CREATED:20170204T011050Z
LAST-MODIFIED:20170207T190209Z
UID:10000031-1487268000-1487275200@vicsocny.org
SUMMARY:The New American Opalescent Color
DESCRIPTION:“The New American Opalescent Color: Newport\, Chicago\, and England”\, a lecture by Richard Guy Wilson\, Director\, VSA Newport Summer School and Commonwealth Professor of Architectural History\, University of Virginia. This event will be held at the Jefferson Market Library\, 425 Avenue of the Americas New York City. Seating is limited. Please RSVP by Monday\, February 13 to admin@vsasummerschools.org \nLearn about the VSA Summer Schools in Newport\,London and Chicago before this year’s March 1st application deadline. \nThis is a National Victorian Society In America event co-­sponsored by the Alumni Association of the Victorian Society Summer Schools.
URL:https://vicsocny.org/calendar/the-new-american-opalescent-color-newport-chicago-and-england/
LOCATION:Jefferson Market Library\, 425 Avenue of the Americas\, New York\, NY\, 10011\, United States
ATTACH;FMTTYPE=image/jpeg:https://vicsocny.org/wp-content/uploads/2017/02/NEW-AMERICAN-OPALESCENT.jpg
GEO:40.7345794;-73.999148
X-APPLE-STRUCTURED-LOCATION;VALUE=URI;X-ADDRESS=Jefferson Market Library 425 Avenue of the Americas New York NY 10011 United States;X-APPLE-RADIUS=500;X-TITLE=425 Avenue of the Americas:geo:-73.999148,40.7345794
END:VEVENT
BEGIN:VEVENT
DTSTART;VALUE=DATE:20170214
DTEND;VALUE=DATE:20170215
DTSTAMP:20260421T195235
CREATED:20170123T040946Z
LAST-MODIFIED:20170207T190358Z
UID:10000056-1487030400-1487116799@vicsocny.org
SUMMARY:Margot Gayle Fund Grant Application Deadline
DESCRIPTION:Margot Gayle with the Jefferson Market Courthouse. \nFebruary 14th (Valentines Day) is the deadline to apply to be considered for a Margot Gayle Fund grant.  For more information see the Margot Gayle Fund page. \n 
URL:https://vicsocny.org/calendar/margot-gayle-fund-grant-application-deadline/
ATTACH;FMTTYPE=image/jpeg:https://vicsocny.org/wp-content/uploads/2017/01/Margot-Gayle-3.jpg
END:VEVENT
END:VCALENDAR