BEGIN:VCALENDAR
VERSION:2.0
PRODID:-//The Metropolitan Chapter of the Victorian Society in America - ECPv6.15.20//NONSGML v1.0//EN
CALSCALE:GREGORIAN
METHOD:PUBLISH
X-ORIGINAL-URL:https://vicsocny.org
X-WR-CALDESC:Events for The Metropolitan Chapter of the Victorian Society in America
REFRESH-INTERVAL;VALUE=DURATION:PT1H
X-Robots-Tag:noindex
X-PUBLISHED-TTL:PT1H
BEGIN:VTIMEZONE
TZID:America/New_York
BEGIN:DAYLIGHT
TZOFFSETFROM:-0500
TZOFFSETTO:-0400
TZNAME:EDT
DTSTART:20190310T070000
END:DAYLIGHT
BEGIN:STANDARD
TZOFFSETFROM:-0400
TZOFFSETTO:-0500
TZNAME:EST
DTSTART:20191103T060000
END:STANDARD
BEGIN:DAYLIGHT
TZOFFSETFROM:-0500
TZOFFSETTO:-0400
TZNAME:EDT
DTSTART:20200308T070000
END:DAYLIGHT
BEGIN:STANDARD
TZOFFSETFROM:-0400
TZOFFSETTO:-0500
TZNAME:EST
DTSTART:20201101T060000
END:STANDARD
BEGIN:DAYLIGHT
TZOFFSETFROM:-0500
TZOFFSETTO:-0400
TZNAME:EDT
DTSTART:20210314T070000
END:DAYLIGHT
BEGIN:STANDARD
TZOFFSETFROM:-0400
TZOFFSETTO:-0500
TZNAME:EST
DTSTART:20211107T060000
END:STANDARD
END:VTIMEZONE
BEGIN:VEVENT
DTSTART;TZID=America/New_York:20201209T180000
DTEND;TZID=America/New_York:20201209T190000
DTSTAMP:20260421T155105
CREATED:20200924T233416Z
LAST-MODIFIED:20210808T171243Z
UID:10000012-1607536800-1607540400@vicsocny.org
SUMMARY:Restless Enterprise: The Art & Life of Eliza Greatorex - With Dr. Katherine Manthorne
DESCRIPTION:Wednesday\, December 9\, 2020 \n6:00 PM – 7 PM EST on Zoom \nPost-Event Update: A video recording of this lecture can be found here.\nABOUT THIS EVENT Once called “the first artist of her sex in America\,” Eliza Greatorex emigrated from Ireland and went on to document the Hudson Valley\, NYC\, Colorado\, Germany\, France\, Italy and Morocco in paintings\, prints\, books and drawings. She did all this while supporting her four children as a single mother and championing the Women’s Movement. In this “Year of the Woman\,” join Dr. Manthorne for this illustrated lecture highlighting episodes from her new book Restless Enterprise: The Art & Life of Eliza Greatorex (U. California Press\, 2020). Katherine Manthorne\, a specialist in modern art of the Americas\, earned her Ph.D. from Columbia University.  Prior to joining the faculty at the Graduate Center of City University of New York she was Director of the Research Center at Smithsonian’s American Art Museum. Her fellowships include Tyson Scholarship at Crystal Bridges Museum of American Art; Terra Foundation Professor\, Free University\, Berlin; and Senior Fulbright Research Fellow\, University of Venice. Her scholarship had long focused on landscape and hemispheric dimensions of American art\, beginning with Tropical Renaissance. North American Artists Exploring Latin America\, 1839-1879 (1989) and continuing in California Mexicana: Missions to Murals\, 1820 to 1930 (2017). Eager to better highlight the role of women within these developments\, she has authored two new books: Women in the Dark: American Female Photographers 1850-1900 (Schiffer Publishing\, 2020) and Restless Enterprise: The Art and Life of Eliza Pratt Greatorex (U. of California Press\, 2020). \nReserve Your Tickets Here
URL:https://vicsocny.org/calendar/restless-enterprise-the-art-life-of-eliza-greatorex-with-dr-katherine-manthorne/
ATTACH;FMTTYPE=image/jpeg:https://vicsocny.org/wp-content/uploads/2020/09/Katherine-Manthorne.jpg
END:VEVENT
BEGIN:VEVENT
DTSTART;TZID=America/New_York:20201217T180000
DTEND;TZID=America/New_York:20201217T190000
DTSTAMP:20260421T155105
CREATED:20201029T223330Z
LAST-MODIFIED:20210808T171349Z
UID:10000017-1608228000-1608231600@vicsocny.org
SUMMARY:Here Today\, Gone Tomorrow
DESCRIPTION:Transformations in Department Store Design\, 1880–1920\n\n\n  \nThursday\, December 17\, 2020 \n6:00 PM – 7 PM EST on Zoom \nPost-Event Update: A video recording of this lecture can be found here.\n\n\n\n\n\nAbout this Event\n\n\nThis talk will time-travel to the department stores’ golden era when display professionals transformed the shopping experience through design innovation. At the turn of the twentieth century\, architects\, window dressers\, shopfitters\, and interior designers aimed to keep up with ever new display styles\, strategies\, and technologies. Ongoing building construction and the continual reinvention of window and interior arrangements created a compelling impression of speed and change for the public. Design distinguished stores from their competition and made the retail experience different from one visit to the next. This illustrated review will show how variable display design was central to both the artistic and economic pursuits of leading department stores in Chicago\, London\, and New York. \nEmily M. Orr is the Assistant Curator of Modern and Contemporary American Design at Cooper Hewitt\, Smithsonian Design Museum. She holds a Ph.D. in the History of Design from the Royal College of Art/Victoria & Albert Museum. She is the author of Designing the Department Store: Display and Retail at the Turn of the Twentieth Century (Bloomsbury\, 2019) and co-editor of the newly released monograph E. McKnight Kauffer: The Artist in Advertising (Rizzoli Electa/Cooper Hewitt Smithsonian Design Museum\, 2020). \n\nReserve Your Tickets Here
URL:https://vicsocny.org/calendar/here-today-gone-tomorrow/
ATTACH;FMTTYPE=image/jpeg:https://vicsocny.org/wp-content/uploads/2020/10/https___cdn.evbuc_.com_images_114404103_267335674331_1_original.jpg
END:VEVENT
END:VCALENDAR