BEGIN:VCALENDAR
VERSION:2.0
PRODID:-//The Metropolitan Chapter of the Victorian Society in America - ECPv6.15.20//NONSGML v1.0//EN
CALSCALE:GREGORIAN
METHOD:PUBLISH
X-ORIGINAL-URL:https://vicsocny.org
X-WR-CALDESC:Events for The Metropolitan Chapter of the Victorian Society in America
REFRESH-INTERVAL;VALUE=DURATION:PT1H
X-Robots-Tag:noindex
X-PUBLISHED-TTL:PT1H
BEGIN:VTIMEZONE
TZID:America/New_York
BEGIN:DAYLIGHT
TZOFFSETFROM:-0500
TZOFFSETTO:-0400
TZNAME:EDT
DTSTART:20200308T070000
END:DAYLIGHT
BEGIN:STANDARD
TZOFFSETFROM:-0400
TZOFFSETTO:-0500
TZNAME:EST
DTSTART:20201101T060000
END:STANDARD
BEGIN:DAYLIGHT
TZOFFSETFROM:-0500
TZOFFSETTO:-0400
TZNAME:EDT
DTSTART:20210314T070000
END:DAYLIGHT
BEGIN:STANDARD
TZOFFSETFROM:-0400
TZOFFSETTO:-0500
TZNAME:EST
DTSTART:20211107T060000
END:STANDARD
BEGIN:DAYLIGHT
TZOFFSETFROM:-0500
TZOFFSETTO:-0400
TZNAME:EDT
DTSTART:20220313T070000
END:DAYLIGHT
BEGIN:STANDARD
TZOFFSETFROM:-0400
TZOFFSETTO:-0500
TZNAME:EST
DTSTART:20221106T060000
END:STANDARD
END:VTIMEZONE
BEGIN:VEVENT
DTSTART;TZID=America/New_York:20210210T180000
DTEND;TZID=America/New_York:20210210T200000
DTSTAMP:20260421T192905
CREATED:20210112T214342Z
LAST-MODIFIED:20210112T214606Z
UID:10000020-1612980000-1612987200@vicsocny.org
SUMMARY:Cottier & Co. on Fifth Avenue\, NY: A One-Stop Shop for the House Beautiful
DESCRIPTION:Daniel Cottier: Designer\, Decorator\, Dealer\n\n\n\n\n\n\n  \nAbout this Event\n\n\nTrained as a stained glass artist\, the Glasgow native Daniel Cottier (1838-1891)\, by age thirty-five\, had created a worldwide network of large shops where one could buy everything for the elegant home–. from furniture to fabrics; from chandeliers to fine china\, and from paintings to stained glass panels. This talk will focus on Cottier & Co. in New York\, its clientele\, and the unique place it occupied among other interior decorating firms because of its inclusion of an art gallery\, which promoted contemporary European art. Cottier’s close friendships with contemporary American artists\, such as Albert Pinkham Ryder\, J. Alden Weir\, and the sculptor Olin Levy Warner\, whose careers he supported without\, however\, selling their art\, will also be discussed. \nPetra ten-Doesschate Chu is professor emeritus of art history and museum studies at Seton Hall University (South Orange\, NJ). A specialist in nineteenth-century art history\, she has published or co-published some fifteen books\, edited volumes\, and exhibition catalogues\, in addition to numerous articles and book chapters. Her textbook\, Nineteenth-Century European Art\, is used across the world. She is the founding co-editor of the open-access journal Nineteenth-Century Art Worldwide (http://19thc-artworldwide.org). Most recently\, together with Max Donnelly\, Andrew Montana\, and Suzanne Veldink\, she has authored a book on Daniel Cottier entitled Daniel Cottier: Designer\, Decorator\, Dealer\, which will be published in May/June by the Paul Mellon Centre for Studies in British Art and distributed by Yale University Press. \n  \n\n\nReserve Your Tickets Here\n 
URL:https://vicsocny.org/calendar/cottier-co-on-fifth-avenue-ny-a-one-stop-shop-for-the-house-beautiful/
ATTACH;FMTTYPE=image/jpeg:https://vicsocny.org/wp-content/uploads/2021/01/https___cdn.evbuc_.com_images_122808263_267335674331_1_original.jpeg
END:VEVENT
BEGIN:VEVENT
DTSTART;TZID=America/New_York:20210222T180000
DTEND;TZID=America/New_York:20210222T200000
DTSTAMP:20260421T192905
CREATED:20210105T002342Z
LAST-MODIFIED:20210105T003516Z
UID:10000019-1614016800-1614024000@vicsocny.org
SUMMARY:Mary Church Terrell’s Family History and the Making of an Activist
DESCRIPTION:Monday\, February 22\, 2021 \n6:00 PM – 8:00 PM EST \nAbout this Event\n\n\nHighlighting new findings from her biography\, Unceasing Militant\, Alison Parker will share how Mary Church Terrell’s family history of enslavement and of opportunities and dangers during Reconstruction helped shape her activism. The Oberlin College graduate became an educator and served as the first Black woman on the Washington\, D.D. board of education. As a leader in the National Association of Colored Women\, the Constitution League\, and then the NAACP\, Terrell became a public lecturer. Pointing to the violence of white enslavers who had raped enslaved women\, including both of her grandmothers\, as well as to the violence of lynching that even ended the life of one of her childhood friends\, Terrell spoke frequently in New York City\, calling for Black men’s and women’s voting rights\, as well as for federal anti-lynching legislation and an end to segregation. \nAlison M. Parker is the Chair & Richards Professor of American History at the University of Delaware. \n  \n\nReserve Your Tickets Here\n 
URL:https://vicsocny.org/calendar/mary-church-terrells-family-history-and-the-making-of-an-activist/
ATTACH;FMTTYPE=image/jpeg:https://vicsocny.org/wp-content/uploads/2021/01/https___cdn.evbuc_.com_images_122198411_267335674331_1_original.jpeg
END:VEVENT
END:VCALENDAR