BEGIN:VCALENDAR
VERSION:2.0
PRODID:-//The Metropolitan Chapter of the Victorian Society in America - ECPv6.15.20//NONSGML v1.0//EN
CALSCALE:GREGORIAN
METHOD:PUBLISH
X-ORIGINAL-URL:https://vicsocny.org
X-WR-CALDESC:Events for The Metropolitan Chapter of the Victorian Society in America
REFRESH-INTERVAL;VALUE=DURATION:PT1H
X-Robots-Tag:noindex
X-PUBLISHED-TTL:PT1H
BEGIN:VTIMEZONE
TZID:America/New_York
BEGIN:DAYLIGHT
TZOFFSETFROM:-0500
TZOFFSETTO:-0400
TZNAME:EDT
DTSTART:20200308T070000
END:DAYLIGHT
BEGIN:STANDARD
TZOFFSETFROM:-0400
TZOFFSETTO:-0500
TZNAME:EST
DTSTART:20201101T060000
END:STANDARD
BEGIN:DAYLIGHT
TZOFFSETFROM:-0500
TZOFFSETTO:-0400
TZNAME:EDT
DTSTART:20210314T070000
END:DAYLIGHT
BEGIN:STANDARD
TZOFFSETFROM:-0400
TZOFFSETTO:-0500
TZNAME:EST
DTSTART:20211107T060000
END:STANDARD
BEGIN:DAYLIGHT
TZOFFSETFROM:-0500
TZOFFSETTO:-0400
TZNAME:EDT
DTSTART:20220313T070000
END:DAYLIGHT
BEGIN:STANDARD
TZOFFSETFROM:-0400
TZOFFSETTO:-0500
TZNAME:EST
DTSTART:20221106T060000
END:STANDARD
END:VTIMEZONE
BEGIN:VEVENT
DTSTART;TZID=America/New_York:20210505T180000
DTEND;TZID=America/New_York:20210505T200000
DTSTAMP:20260422T005320
CREATED:20210122T215515Z
LAST-MODIFIED:20210519T212608Z
UID:10000084-1620237600-1620244800@vicsocny.org
SUMMARY:The Waldorf-Astoria and the Life of the City
DESCRIPTION:Wed\, May 5\, 2021\n6:00 PM – 8:00 PM EDT\nAbout this Event\n\n\nWhen the original Hotel Waldorf opened on Fifth Avenue in 1893\, its managers sought to create a “haven for the well-to-do\,” an elite citadel that would guard the privacy (and secrets) of a select assemblage of Astors\, Vanderbilts and Whitneys. But after the Waldorf doubled in size with the addition of the Astoria in 1897\, it had to open its doors to a wider spectrum. In this lecture based on his forthcoming book\, American Hotel: The Waldorf-Astoria and Making of a Century\, David Freeland will discuss how the hotel that cultivated (it was once said) “exclusiveness among the masses” became a turn-of-century meeting place for all kinds of people. Along the way\, he’ll share a range of photos and documents to highlight the Waldorf’s contributions in architecture\, music\, and cuisine. \nDavid Freeland is the author of the books Automats\, Taxi Dances and Vaudeville: Excavating Manhattan’s Lost Places of Leisure\, for which he won the 2009 Award for Popular Culture and Entertainment for 2009 from the Metropolitan Chapter of the Victorian Society in America\, and Ladies of Soul. As a historian and journalist\, he has written for the Wall Street Journal\, am New York\, Time Out New York\, New York History\, American Songwriter\, and other publications. He appeared in episodes of NBC TV’s “Who Do You Think You Are” and NYC Media’s “Secrets of New York.” Freeland lives in New York\, where he leads walking tours and gives lectures on the city’s culture and history. \nReserve Your Tickets Here\n 
URL:https://vicsocny.org/calendar/the-waldorf-astoria-and-the-life-of-the-city/
END:VEVENT
BEGIN:VEVENT
DTSTART;TZID=America/New_York:20210510T180000
DTEND;TZID=America/New_York:20210510T193000
DTSTAMP:20260422T005320
CREATED:20210310T010337Z
LAST-MODIFIED:20210317T211930Z
UID:10000087-1620669600-1620675000@vicsocny.org
SUMMARY:Emerging Scholars Celebration
DESCRIPTION:Alice Austen\, The Age of Innocence\, and Ice Skating and Fashion\n  \nAbout this Event\n  \n\n\nWinners of the Victorian Society New York’s annual Emerging Scholars contest will speak on a fascinating array of topics. Margaret Simons\, a collections and development specialist at the Alice Austen House on Staten Island\, earning her master’s degree in design history and curatorial studies in the Parsons School of Design/Cooper Hewitt Smithsonian Design Museum program\, will explore the life and career of enigmatic photographer Alice Austen (1866-1952). Alexis Fair\, a university administrator earning her master’s degree in design history and curatorial studies at Parsons\, will discuss how fashions in Edith Wharton’s The Age of Innocence in the novel and film versions reveal identity\, character\, Victorian cultural ideologies\, and women’s plight asserting independence in an oppressive society. Lara Damabi\, the Tiffany & Co. Foundation curatorial intern in American decorative arts at The Metropolitan Museum of Art (a recent NYU master’s degree recipient in costume studies)\, will cover how late-19th-century societal changes\, such as evolving gender relations\, growing interest in sport and exercise\, and technological advancements\, were reflected through ice skating and fashion. \n  \nReserve Your Tickets Here
URL:https://vicsocny.org/calendar/emerging-scholars-lecture-event/
ATTACH;FMTTYPE=image/jpeg:https://vicsocny.org/wp-content/uploads/2021/03/https___cdn.evbuc_.com_images_129278981_267335674331_1_original.jpg
END:VEVENT
END:VCALENDAR